BEGIN:VCALENDAR
VERSION:2.0
PRODID:icalendar-ruby
CALSCALE:GREGORIAN
METHOD:PUBLISH
BEGIN:VEVENT
DTSTAMP:20260422T065346Z
UID:2-749024@fcogtoledo.com
DTSTART:20260708T230000Z
DTEND:20260709T010000Z
CLASS:PUBLIC
CREATED:20260421T212441
DESCRIPTION:
LAST-MODIFIED:20260421T212441
LOCATION:Online Via Facebook and YouTube
SUMMARY:Wednesday Night Bible Study
URL;VALUE=URI:https://fcogtoledo.com/events/wednesday-night-bible-study/202
 6-07-08
ATTACH;FILENAME=9.Wed-Night-Bible-Study--EVENT-List.jpg;FMTTYPE=image/jpeg:
 https://dq5pwpg1q8ru0.cloudfront.net/2026/03/12/02/27/58/f731c6fc-9708-461
 5-8dae-987b3f8c04d1/9.Wed-Night-Bible-Study--EVENT-List.jpg
END:VEVENT
END:VCALENDAR
