BEGIN:VCALENDAR
VERSION:2.0
PRODID:icalendar-ruby
CALSCALE:GREGORIAN
METHOD:PUBLISH
BEGIN:VEVENT
DTSTAMP:20260423T102207Z
UID:32-754727@fcogtoledo.com
DTSTART:20261015T230000Z
DTEND:20261016T000000Z
CLASS:PUBLIC
CREATED:20260422T230303
DESCRIPTION:All women are welcome to join us as we study the book of John.\
 nReverend Donna Garth\, Faciliator
LAST-MODIFIED:20260422T230303
LOCATION:Zoom ID: 8444 591 0702
SUMMARY:S.T.A.R.S. Bible Study
URL;VALUE=URI:https://fcogtoledo.com/events/s-t-a-r-s-bible-study/2026-10-1
 5
ATTACH;FILENAME=STARS-Bible-Study.jpg;FMTTYPE=image/jpeg:https://dq5pwpg1q8
 ru0.cloudfront.net/2026/02/05/05/34/05/0c9bbac3-0f16-4eb1-9a5b-0e381497e8e
 e/STARS-Bible-Study.jpg
END:VEVENT
END:VCALENDAR
